BEGIN:VCALENDAR
VERSION:2.0
PRODID:-//Ryan Fischer Music - ECPv5.1.0//NONSGML v1.0//EN
CALSCALE:GREGORIAN
METHOD:PUBLISH
X-WR-CALNAME:Ryan Fischer Music
X-ORIGINAL-URL:https://ryanfischermusic.com
X-WR-CALDESC:Events for Ryan Fischer Music
BEGIN:VTIMEZONE
TZID:UTC
BEGIN:STANDARD
TZOFFSETFROM:+0000
TZOFFSETTO:+0000
TZNAME:UTC
DTSTART:20190101T000000
END:STANDARD
END:VTIMEZONE
BEGIN:VEVENT
DTSTART;TZID=UTC:20190824T160000
DTEND;TZID=UTC:20190824T190000
DTSTAMP:20260425T183341
CREATED:20190724T233652Z
LAST-MODIFIED:20190724T233652Z
UID:391-1566662400-1566673200@ryanfischermusic.com
SUMMARY:Cates Park Concert Series
DESCRIPTION:
URL:https://ryanfischermusic.com/show/cates-park-concert-series/
LOCATION:Cates Park\, 4141 Dollarton Hwy\, North Vancouver\, BC\, V7G 1A1\, Canada
END:VEVENT
END:VCALENDAR