BEGIN:VCALENDAR
VERSION:2.0
PRODID:-//Ryan Fischer Music - ECPv5.1.0//NONSGML v1.0//EN
CALSCALE:GREGORIAN
METHOD:PUBLISH
X-WR-CALNAME:Ryan Fischer Music
X-ORIGINAL-URL:https://ryanfischermusic.com
X-WR-CALDESC:Events for Ryan Fischer Music
BEGIN:VTIMEZONE
TZID:UTC
BEGIN:STANDARD
TZOFFSETFROM:+0000
TZOFFSETTO:+0000
TZNAME:UTC
DTSTART:20190101T000000
END:STANDARD
END:VTIMEZONE
BEGIN:VEVENT
DTSTART;TZID=UTC:20190502T200000
DTEND;TZID=UTC:20190502T210000
DTSTAMP:20260425T183429
CREATED:20190724T235311Z
LAST-MODIFIED:20190724T235311Z
UID:402-1556827200-1556830800@ryanfischermusic.com
SUMMARY:Featured Songwriter @ The Burnaby Neighbourhood House
DESCRIPTION:
URL:https://ryanfischermusic.com/show/featured-songwriter-the-burnaby-neighbourhood-house/
LOCATION:The Burnaby Neigbourhood House\, 5024 Rumble St\, Burnaby\, BC\, V5J 2B4\, Canada
END:VEVENT
END:VCALENDAR