BEGIN:VCALENDAR
VERSION:2.0
PRODID:-//Ryan Fischer Music - ECPv5.1.0//NONSGML v1.0//EN
CALSCALE:GREGORIAN
METHOD:PUBLISH
X-WR-CALNAME:Ryan Fischer Music
X-ORIGINAL-URL:https://ryanfischermusic.com
X-WR-CALDESC:Events for Ryan Fischer Music
BEGIN:VTIMEZONE
TZID:UTC
BEGIN:STANDARD
TZOFFSETFROM:+0000
TZOFFSETTO:+0000
TZNAME:UTC
DTSTART:20220101T000000
END:STANDARD
END:VTIMEZONE
BEGIN:VEVENT
DTSTART;TZID=UTC:20220212T190000
DTEND;TZID=UTC:20220212T220000
DTSTAMP:20260425T153244
CREATED:20220131T223429Z
LAST-MODIFIED:20220131T224307Z
UID:949-1644692400-1644703200@ryanfischermusic.com
SUMMARY:Flashback Brewing Company
DESCRIPTION:I’ll be playing a bunch of my original tunes with some groovy classic covers from 7-10pm! \n
URL:https://ryanfischermusic.com/show/flashback-brewing-company/
LOCATION:Flashback Brewing Company\, #1-9360 Mill St.\, Chilliwack\, BC\, V2P 4N2\, Canada
END:VEVENT
END:VCALENDAR