BEGIN:VCALENDAR
VERSION:2.0
PRODID:-//Ryan Fischer Music - ECPv5.1.0//NONSGML v1.0//EN
CALSCALE:GREGORIAN
METHOD:PUBLISH
X-WR-CALNAME:Ryan Fischer Music
X-ORIGINAL-URL:https://ryanfischermusic.com
X-WR-CALDESC:Events for Ryan Fischer Music
BEGIN:VTIMEZONE
TZID:UTC
BEGIN:STANDARD
TZOFFSETFROM:+0000
TZOFFSETTO:+0000
TZNAME:UTC
DTSTART:20200101T000000
END:STANDARD
END:VTIMEZONE
BEGIN:VEVENT
DTSTART;TZID=UTC:20200713T190000
DTEND;TZID=UTC:20200713T200000
DTSTAMP:20260425T165139
CREATED:20200312T220345Z
LAST-MODIFIED:20200709T192435Z
UID:513-1594666800-1594670400@ryanfischermusic.com
SUMMARY:Guilt & Co Early Show!
DESCRIPTION:I’ll be playing a bunch of tunes of for you from 8-9 pm. Pay whatya can at the door. Look forward to seeing you there! \n
URL:https://ryanfischermusic.com/show/guilt-co-early-show/
LOCATION:Guilt & Co. Lounge\, 1 Alexander Street\, Vancouver\, BC\, V6A 1B2
END:VEVENT
END:VCALENDAR