BEGIN:VCALENDAR
VERSION:2.0
PRODID:-//Ryan Fischer Music - ECPv5.1.0//NONSGML v1.0//EN
CALSCALE:GREGORIAN
METHOD:PUBLISH
X-WR-CALNAME:Ryan Fischer Music
X-ORIGINAL-URL:https://ryanfischermusic.com
X-WR-CALDESC:Events for Ryan Fischer Music
BEGIN:VTIMEZONE
TZID:UTC
BEGIN:STANDARD
TZOFFSETFROM:+0000
TZOFFSETTO:+0000
TZNAME:UTC
DTSTART:20200101T000000
END:STANDARD
END:VTIMEZONE
BEGIN:VEVENT
DTSTART;TZID=UTC:20200211T200000
DTEND;TZID=UTC:20200211T210000
DTSTAMP:20260425T165420
CREATED:20191024T222708Z
LAST-MODIFIED:20191031T204508Z
UID:428-1581451200-1581454800@ryanfischermusic.com
SUMMARY:Guilt & Co. Lounge
DESCRIPTION:I’ll be playing an hour set of my original tunes and a few of my favourite covers! \n
URL:https://ryanfischermusic.com/show/guilt-co-lounge/
LOCATION:Guilt & Co. Lounge\, 1 Alexander Street\, Vancouver\, BC\, V6A 1B2
END:VEVENT
END:VCALENDAR