BEGIN:VCALENDAR
VERSION:2.0
PRODID:-//Ryan Fischer Music - ECPv5.1.0//NONSGML v1.0//EN
CALSCALE:GREGORIAN
METHOD:PUBLISH
X-WR-CALNAME:Ryan Fischer Music
X-ORIGINAL-URL:https://ryanfischermusic.com
X-WR-CALDESC:Events for Ryan Fischer Music
BEGIN:VTIMEZONE
TZID:UTC
BEGIN:STANDARD
TZOFFSETFROM:+0000
TZOFFSETTO:+0000
TZNAME:UTC
DTSTART:20190101T000000
END:STANDARD
END:VTIMEZONE
BEGIN:VEVENT
DTSTART;TZID=UTC:20190930T190000
DTEND;TZID=UTC:20190930T210000
DTSTAMP:20260425T183209
CREATED:20190724T225337Z
LAST-MODIFIED:20190910T035308Z
UID:384-1569870000-1569877200@ryanfischermusic.com
SUMMARY:Guilt & Co.
DESCRIPTION:
URL:https://ryanfischermusic.com/show/guilt-co/
LOCATION:Guilit\, Guilt & Co\, 1 Alexander St.\, Vancouver\, BC\, V6A 1B2\, Canada
END:VEVENT
END:VCALENDAR