BEGIN:VCALENDAR
VERSION:2.0
PRODID:-//Ryan Fischer Music - ECPv5.1.0//NONSGML v1.0//EN
CALSCALE:GREGORIAN
METHOD:PUBLISH
X-WR-CALNAME:Ryan Fischer Music
X-ORIGINAL-URL:https://ryanfischermusic.com
X-WR-CALDESC:Events for Ryan Fischer Music
BEGIN:VTIMEZONE
TZID:UTC
BEGIN:STANDARD
TZOFFSETFROM:+0000
TZOFFSETTO:+0000
TZNAME:UTC
DTSTART:20190101T000000
END:STANDARD
END:VTIMEZONE
BEGIN:VEVENT
DTSTART;TZID=UTC:20190602T210000
DTEND;TZID=UTC:20190602T220000
DTSTAMP:20260425T183647
CREATED:20190724T234825Z
LAST-MODIFIED:20190724T234825Z
UID:399-1559509200-1559512800@ryanfischermusic.com
SUMMARY:Richmond Night Market
DESCRIPTION:
URL:https://ryanfischermusic.com/show/richmond-night-market/
LOCATION:Richmond Night Market\, 8351 River Rd\, Richmond\, BC\, V6X 1Y4\, Canada
END:VEVENT
END:VCALENDAR