BEGIN:VCALENDAR
VERSION:2.0
PRODID:-//Ryan Fischer Music - ECPv5.1.0//NONSGML v1.0//EN
CALSCALE:GREGORIAN
METHOD:PUBLISH
X-WR-CALNAME:Ryan Fischer Music
X-ORIGINAL-URL:https://ryanfischermusic.com
X-WR-CALDESC:Events for Ryan Fischer Music
BEGIN:VTIMEZONE
TZID:America/Vancouver
BEGIN:DAYLIGHT
TZOFFSETFROM:-0800
TZOFFSETTO:-0700
TZNAME:PDT
DTSTART:20220313T100000
END:DAYLIGHT
BEGIN:STANDARD
TZOFFSETFROM:-0700
TZOFFSETTO:-0800
TZNAME:PST
DTSTART:20221106T090000
END:STANDARD
END:VTIMEZONE
BEGIN:VEVENT
DTSTART;TZID=America/Vancouver:20220317T190000
DTEND;TZID=America/Vancouver:20220317T220000
DTSTAMP:20260425T142723
CREATED:20220315T205118Z
LAST-MODIFIED:20220315T205138Z
UID:1016-1647543600-1647554400@ryanfischermusic.com
SUMMARY:Ryan Fischer at The Cascade Room!
DESCRIPTION:
URL:https://ryanfischermusic.com/show/ryan-fischer-at-the-cascade-room/
LOCATION:The Cascade Room\, 2616 Main St\, Vancouver\, BC\, V5T 3E6\, Canada
END:VEVENT
END:VCALENDAR