BEGIN:VCALENDAR
VERSION:2.0
PRODID:-//Ryan Fischer Music - ECPv5.1.0//NONSGML v1.0//EN
CALSCALE:GREGORIAN
METHOD:PUBLISH
X-WR-CALNAME:Ryan Fischer Music
X-ORIGINAL-URL:https://ryanfischermusic.com
X-WR-CALDESC:Events for Ryan Fischer Music
BEGIN:VTIMEZONE
TZID:UTC
BEGIN:STANDARD
TZOFFSETFROM:+0000
TZOFFSETTO:+0000
TZNAME:UTC
DTSTART:20210101T000000
END:STANDARD
END:VTIMEZONE
BEGIN:VEVENT
DTSTART;TZID=UTC:20211130T190000
DTEND;TZID=UTC:20211130T220000
DTSTAMP:20260425T153733
CREATED:20211119T202610Z
LAST-MODIFIED:20211204T003447Z
UID:879-1638298800-1638309600@ryanfischermusic.com
SUMMARY:Ryan Fischer Host's Open Mic Night at Donnellan's Irish Pub
DESCRIPTION: \n
URL:https://ryanfischermusic.com/show/ryan-fischer-hosts-open-mic-night-at-donnellans-irish-pub-2/
LOCATION:Donnellan’s Irish Pub\, 1082 Granville Street\, Vancouver\, BC\, V6Z 1L5\, Canada
END:VEVENT
END:VCALENDAR