BEGIN:VCALENDAR
VERSION:2.0
PRODID:-//Ryan Fischer Music - ECPv5.1.0//NONSGML v1.0//EN
CALSCALE:GREGORIAN
METHOD:PUBLISH
X-WR-CALNAME:Ryan Fischer Music
X-ORIGINAL-URL:https://ryanfischermusic.com
X-WR-CALDESC:Events for Ryan Fischer Music
BEGIN:VTIMEZONE
TZID:UTC
BEGIN:STANDARD
TZOFFSETFROM:+0000
TZOFFSETTO:+0000
TZNAME:UTC
DTSTART:20210101T000000
END:STANDARD
END:VTIMEZONE
BEGIN:VEVENT
DTSTART;TZID=UTC:20211207T190000
DTEND;TZID=UTC:20211207T220000
DTSTAMP:20260425T153947
CREATED:20211204T000028Z
LAST-MODIFIED:20211204T000028Z
UID:885-1638903600-1638914400@ryanfischermusic.com
SUMMARY:Ryan Fischer Host’s Open Mic Night at Donnellan’s Irish Pub
DESCRIPTION:
URL:https://ryanfischermusic.com/show/ryan-fischer-hosts-open-mic-night-at-donnellans-irish-pub-3/
LOCATION:Donnellan’s Irish Pub\, 1082 Granville Street\, Vancouver\, BC\, V6Z 1L5\, Canada
END:VEVENT
END:VCALENDAR