BEGIN:VCALENDAR
VERSION:2.0
PRODID:-//Ryan Fischer Music - ECPv5.1.0//NONSGML v1.0//EN
CALSCALE:GREGORIAN
METHOD:PUBLISH
X-WR-CALNAME:Ryan Fischer Music
X-ORIGINAL-URL:https://ryanfischermusic.com
X-WR-CALDESC:Events for Ryan Fischer Music
BEGIN:VTIMEZONE
TZID:UTC
BEGIN:STANDARD
TZOFFSETFROM:+0000
TZOFFSETTO:+0000
TZNAME:UTC
DTSTART:20210101T000000
END:STANDARD
END:VTIMEZONE
BEGIN:VEVENT
DTSTART;TZID=UTC:20210216T190000
DTEND;TZID=UTC:20210216T210000
DTSTAMP:20260425T170934
CREATED:20210116T005559Z
LAST-MODIFIED:20210118T214340Z
UID:563-1613502000-1613509200@ryanfischermusic.com
SUMMARY:Ryan Fischer Live at 2nd Floor Gastown!
DESCRIPTION:
URL:https://ryanfischermusic.com/show/ryan-fischer-live-at-2nd-floor-gastown-2/
LOCATION:2nd Floor Gastown\, 300 Water Street\, Vancouver\, BC\, V6B1B6\, Canada
END:VEVENT
END:VCALENDAR