BEGIN:VCALENDAR
VERSION:2.0
PRODID:-//Ryan Fischer Music - ECPv5.1.0//NONSGML v1.0//EN
CALSCALE:GREGORIAN
METHOD:PUBLISH
X-WR-CALNAME:Ryan Fischer Music
X-ORIGINAL-URL:https://ryanfischermusic.com
X-WR-CALDESC:Events for Ryan Fischer Music
BEGIN:VTIMEZONE
TZID:UTC
BEGIN:STANDARD
TZOFFSETFROM:+0000
TZOFFSETTO:+0000
TZNAME:UTC
DTSTART:20200101T000000
END:STANDARD
END:VTIMEZONE
BEGIN:VEVENT
DTSTART;TZID=UTC:20200820T190000
DTEND;TZID=UTC:20200820T210000
DTSTAMP:20260425T165354
CREATED:20200807T230729Z
LAST-MODIFIED:20200807T230729Z
UID:529-1597950000-1597957200@ryanfischermusic.com
SUMMARY:Ryan Fischer LIVE at 2nd Floor Gastown
DESCRIPTION:I’ll be playing a 2 hour set of mostly original songs and some covers by my favourite songwriters. \n
URL:https://ryanfischermusic.com/show/ryan-fischer-live-at-2nd-floor-gastown/
LOCATION:2nd Floor Gastown\, 300 Water Street\, Vancouver\, BC\, V6B1B6\, Canada
END:VEVENT
END:VCALENDAR