BEGIN:VCALENDAR
VERSION:2.0
PRODID:-//Ryan Fischer Music - ECPv5.1.0//NONSGML v1.0//EN
CALSCALE:GREGORIAN
METHOD:PUBLISH
X-WR-CALNAME:Ryan Fischer Music
X-ORIGINAL-URL:https://ryanfischermusic.com
X-WR-CALDESC:Events for Ryan Fischer Music
BEGIN:VTIMEZONE
TZID:UTC
BEGIN:STANDARD
TZOFFSETFROM:+0000
TZOFFSETTO:+0000
TZNAME:UTC
DTSTART:20230101T000000
END:STANDARD
END:VTIMEZONE
BEGIN:VEVENT
DTSTART;TZID=UTC:20230322T180000
DTEND;TZID=UTC:20230322T210000
DTSTAMP:20260423T162547
CREATED:20221028T191404Z
LAST-MODIFIED:20221028T191404Z
UID:1121-1679508000-1679518800@ryanfischermusic.com
SUMMARY:Ryan Fischer @ Patina Brewing
DESCRIPTION:
URL:https://ryanfischermusic.com/show/ryan-fischer-patina-brewing-2/
LOCATION:Patina Brewing\, 2332 Marpole Avenue\, Port Coquitlam\, BC\, Canada
END:VEVENT
END:VCALENDAR