BEGIN:VCALENDAR
VERSION:2.0
PRODID:-//Ryan Fischer Music - ECPv5.1.0//NONSGML v1.0//EN
CALSCALE:GREGORIAN
METHOD:PUBLISH
X-WR-CALNAME:Ryan Fischer Music
X-ORIGINAL-URL:https://ryanfischermusic.com
X-WR-CALDESC:Events for Ryan Fischer Music
BEGIN:VTIMEZONE
TZID:America/Vancouver
BEGIN:DAYLIGHT
TZOFFSETFROM:-0800
TZOFFSETTO:-0700
TZNAME:PDT
DTSTART:20230312T100000
END:DAYLIGHT
BEGIN:STANDARD
TZOFFSETFROM:-0700
TZOFFSETTO:-0800
TZNAME:PST
DTSTART:20231105T090000
END:STANDARD
END:VTIMEZONE
BEGIN:VEVENT
DTSTART;TZID=America/Vancouver:20230112T080000
DTEND;TZID=America/Vancouver:20230112T170000
DTSTAMP:20260423T232416
CREATED:20221205T213132Z
LAST-MODIFIED:20221205T213132Z
UID:1138-1673510400-1673542800@ryanfischermusic.com
SUMMARY:Ryan Fischer @ The Brighton!
DESCRIPTION:
URL:https://ryanfischermusic.com/show/ryan-fischer-the-brighton-3/
LOCATION:The Brighton\, 2471 Hastings St E\,\, CA\, Vancouver\, BC\, V5K 1Y8
END:VEVENT
END:VCALENDAR