BEGIN:VCALENDAR
VERSION:2.0
PRODID:-//Ryan Fischer Music - ECPv5.1.0//NONSGML v1.0//EN
CALSCALE:GREGORIAN
METHOD:PUBLISH
X-WR-CALNAME:Ryan Fischer Music
X-ORIGINAL-URL:https://ryanfischermusic.com
X-WR-CALDESC:Events for Ryan Fischer Music
BEGIN:VTIMEZONE
TZID:America/Vancouver
BEGIN:DAYLIGHT
TZOFFSETFROM:-0800
TZOFFSETTO:-0700
TZNAME:PDT
DTSTART:20230312T100000
END:DAYLIGHT
BEGIN:STANDARD
TZOFFSETFROM:-0700
TZOFFSETTO:-0800
TZNAME:PST
DTSTART:20231105T090000
END:STANDARD
END:VTIMEZONE
BEGIN:VEVENT
DTSTART;TZID=America/Vancouver:20230414T080000
DTEND;TZID=America/Vancouver:20230414T170000
DTSTAMP:20260423T160505
CREATED:20221205T214659Z
LAST-MODIFIED:20221205T214718Z
UID:1144-1681459200-1681491600@ryanfischermusic.com
SUMMARY:Ryan Fischer @ The Brighton!
DESCRIPTION:
URL:https://ryanfischermusic.com/show/ryan-fischer-the-brighton-6/
LOCATION:The Brighton\, 2471 Hastings St E\,\, CA\, Vancouver\, BC\, V5K 1Y8
END:VEVENT
END:VCALENDAR