BEGIN:VCALENDAR
VERSION:2.0
PRODID:-//Ryan Fischer Music - ECPv5.1.0//NONSGML v1.0//EN
CALSCALE:GREGORIAN
METHOD:PUBLISH
X-WR-CALNAME:Ryan Fischer Music
X-ORIGINAL-URL:https://ryanfischermusic.com
X-WR-CALDESC:Events for Ryan Fischer Music
BEGIN:VTIMEZONE
TZID:America/Vancouver
BEGIN:DAYLIGHT
TZOFFSETFROM:-0800
TZOFFSETTO:-0700
TZNAME:PDT
DTSTART:20220313T100000
END:DAYLIGHT
BEGIN:STANDARD
TZOFFSETFROM:-0700
TZOFFSETTO:-0800
TZNAME:PST
DTSTART:20221106T090000
END:STANDARD
END:VTIMEZONE
BEGIN:VEVENT
DTSTART;TZID=America/Vancouver:20220404T181500
DTEND;TZID=America/Vancouver:20220404T214500
DTSTAMP:20260425T142247
CREATED:20220308T015207Z
LAST-MODIFIED:20220309T223526Z
UID:1012-1649096100-1649108700@ryanfischermusic.com
SUMMARY:Ryan Fischer with Sara Wazani at 2nd Floor Gastown!
DESCRIPTION:
URL:https://ryanfischermusic.com/show/ryan-fischer-with-sara-wazani-at-2nd-floor-gastown/
LOCATION:2nd Floor Gastown\, 300 Water Street\, Vancouver\, BC\, V6B1B6\, Canada
END:VEVENT
END:VCALENDAR