BEGIN:VCALENDAR
VERSION:2.0
PRODID:-//Ryan Fischer Music - ECPv5.1.0//NONSGML v1.0//EN
CALSCALE:GREGORIAN
METHOD:PUBLISH
X-WR-CALNAME:Ryan Fischer Music
X-ORIGINAL-URL:https://ryanfischermusic.com
X-WR-CALDESC:Events for Ryan Fischer Music
BEGIN:VTIMEZONE
TZID:UTC
BEGIN:STANDARD
TZOFFSETFROM:+0000
TZOFFSETTO:+0000
TZNAME:UTC
DTSTART:20210101T000000
END:STANDARD
END:VTIMEZONE
BEGIN:VEVENT
DTSTART;TZID=UTC:20211128T190000
DTEND;TZID=UTC:20211128T213000
DTSTAMP:20260425T153407
CREATED:20211117T002942Z
LAST-MODIFIED:20211117T002942Z
UID:869-1638126000-1638135000@ryanfischermusic.com
SUMMARY:The Songwriters Showcase
DESCRIPTION:
URL:https://ryanfischermusic.com/show/the-songwriters-showcase/
LOCATION:The Bennett\, 2099 Lougheed Highway\, Port Coquitlam\, BC\, v3b1a8\, Canada
END:VEVENT
END:VCALENDAR