BEGIN:VCALENDAR
VERSION:2.0
PRODID:-//Ryan Fischer Music - ECPv5.1.0//NONSGML v1.0//EN
CALSCALE:GREGORIAN
METHOD:PUBLISH
X-WR-CALNAME:Ryan Fischer Music
X-ORIGINAL-URL:https://ryanfischermusic.com
X-WR-CALDESC:Events for Ryan Fischer Music
BEGIN:VTIMEZONE
TZID:UTC
BEGIN:STANDARD
TZOFFSETFROM:+0000
TZOFFSETTO:+0000
TZNAME:UTC
DTSTART:20210101T000000
END:STANDARD
END:VTIMEZONE
BEGIN:VEVENT
DTSTART;TZID=UTC:20211118T180000
DTEND;TZID=UTC:20211118T210000
DTSTAMP:20260425T165134
CREATED:20211116T030932Z
LAST-MODIFIED:20211117T031825Z
UID:866-1637258400-1637269200@ryanfischermusic.com
SUMMARY:Townhall Pub Chilliwack
DESCRIPTION:
URL:https://ryanfischermusic.com/show/townhall-pub-chilliwack/
LOCATION:Townhall Chilliwack\, 6640 Vedder Road\, Chilliwack\, BC\, V2R 4E1\, Canada
END:VEVENT
END:VCALENDAR