BEGIN:VCALENDAR
VERSION:2.0
PRODID:-//Ryan Fischer Music - ECPv5.1.0//NONSGML v1.0//EN
CALSCALE:GREGORIAN
METHOD:PUBLISH
X-WR-CALNAME:Ryan Fischer Music
X-ORIGINAL-URL:https://ryanfischermusic.com
X-WR-CALDESC:Events for Ryan Fischer Music
BEGIN:VTIMEZONE
TZID:UTC
BEGIN:STANDARD
TZOFFSETFROM:+0000
TZOFFSETTO:+0000
TZNAME:UTC
DTSTART:20210101T000000
END:STANDARD
END:VTIMEZONE
BEGIN:VEVENT
DTSTART;TZID=UTC:20211127T193000
DTEND;TZID=UTC:20211127T233000
DTSTAMP:20260425T153701
CREATED:20211117T005554Z
LAST-MODIFIED:20211126T010608Z
UID:872-1638041400-1638055800@ryanfischermusic.com
SUMMARY:U.C.A.S.S. Presents An Intimate Evening With Local Solo/Acoustic Artists
DESCRIPTION:
URL:https://ryanfischermusic.com/show/u-c-a-s-s-presents-an-intimate-evening-with-local-solo-acoustic-artists/
LOCATION:Bully’s\, 67 6th Street\, New Westminster\, BC\, V3L 2Z6\, Canada
END:VEVENT
END:VCALENDAR