BEGIN:VCALENDAR
VERSION:2.0
PRODID:-//Ryan Fischer Music - ECPv5.1.0//NONSGML v1.0//EN
CALSCALE:GREGORIAN
METHOD:PUBLISH
X-WR-CALNAME:Ryan Fischer Music
X-ORIGINAL-URL:https://ryanfischermusic.com
X-WR-CALDESC:Events for Ryan Fischer Music
BEGIN:VTIMEZONE
TZID:UTC
BEGIN:STANDARD
TZOFFSETFROM:+0000
TZOFFSETTO:+0000
TZNAME:UTC
DTSTART:20190101T000000
END:STANDARD
END:VTIMEZONE
BEGIN:VEVENT
DTSTART;TZID=UTC:20191217T183000
DTEND;TZID=UTC:20191217T193000
DTSTAMP:20260425T165303
CREATED:20191031T183126Z
LAST-MODIFIED:20191106T221131Z
UID:464-1576607400-1576611000@ryanfischermusic.com
SUMMARY:Vancouver Maritime Museum Holiday Party
DESCRIPTION:I’ll be playing an hour set of my original songs with few of my favourite covers. \n
URL:https://ryanfischermusic.com/show/vancouver-maritime-museum-holiday-party/
LOCATION:Billy Bishop / Kerrisdale Legain – Spitfire Room!\, 1407 Laburnum St\, Vancouver\, BC\, V6J 3W4\, Canada
END:VEVENT
END:VCALENDAR